BEGIN:VCALENDAR
VERSION:2.0
PRODID:-//Banbury Folk Club - ECPv5.14.0.4//NONSGML v1.0//EN
CALSCALE:GREGORIAN
METHOD:PUBLISH
X-WR-CALNAME:Banbury Folk Club
X-ORIGINAL-URL:https://banburyfolkclub.co.uk
X-WR-CALDESC:Events for Banbury Folk Club
BEGIN:VTIMEZONE
TZID:Europe/London
BEGIN:DAYLIGHT
TZOFFSETFROM:+0000
TZOFFSETTO:+0100
TZNAME:BST
DTSTART:20250330T010000
END:DAYLIGHT
BEGIN:STANDARD
TZOFFSETFROM:+0100
TZOFFSETTO:+0000
TZNAME:GMT
DTSTART:20251026T010000
END:STANDARD
END:VTIMEZONE
BEGIN:VEVENT
DTSTART;TZID=Europe/London:20250626T080000
DTEND;TZID=Europe/London:20250626T170000
DTSTAMP:20260423T171539
CREATED:20250626T141721Z
LAST-MODIFIED:20250626T141721Z
UID:1958-1750924800-1750957200@banburyfolkclub.co.uk
SUMMARY:Claude Bourbon
DESCRIPTION:Ready for a unique and talented take on a wide range of musical traditions? Claude Bourbon is known throughout Europe and America for amazing guitar performances that take blues\, Spanish\, and classical stylings into uncharted territories. \nClaude’s inimitable style incorporates all five digits on each hand dancing independently but in unison\, plucking\, picking and strumming at such speed and precision that his fingers often seem to melt into a blur. Thousands of people in the UK\, Europe and USA have enjoyed listening to this virtuoso and for the majority of his audience it is an experience that compels them to return again and again to hear and watch him play\, as his fingers lightly dance over the strings of his guitar and create a unique sound that is ’Claude’. \nSome of this guitarists’ influences allow us a fascinating insight into this remarkable musician; Paco De Lucia: Deep Purple’s Richie Blackmore; Joaquin Rodrigo; JJ Cale; JS Bach…. \nClaude has played countless venues\, including Glastonbury Festival\, Isle of Wight Festival\, Colne Great British & Blues Festival\, Rock O’Z Arene\, Avenches\, Switzerland\, among others. He has shared the stage in Europe and the USA with countless musicians\, Calvin Russel\, Charlie Morgan (Elton John\, Gary Moore)\, Jan Akkerman (Focus)\, Steve Grossman (Miles Davis)\, Herbie Armstrong ( Van Morisson)\, Jose barrense Dias and many more. \n“A breathtaking acoustic fusion of blues\, jazz\, classical and Spanish guitar from a stunning guitar virtuoso…” Altadena News\, USA” \n \nSupport is from Carol Whitworth.
URL:https://banburyfolkclub.co.uk/event/claude-bourbon-2/
END:VEVENT
END:VCALENDAR