BEGIN:VCALENDAR
VERSION:2.0
PRODID:-//Banbury Folk Club - ECPv5.14.0.4//NONSGML v1.0//EN
CALSCALE:GREGORIAN
METHOD:PUBLISH
X-WR-CALNAME:Banbury Folk Club
X-ORIGINAL-URL:https://banburyfolkclub.co.uk
X-WR-CALDESC:Events for Banbury Folk Club
BEGIN:VTIMEZONE
TZID:Europe/London
BEGIN:DAYLIGHT
TZOFFSETFROM:+0000
TZOFFSETTO:+0100
TZNAME:BST
DTSTART:20250330T010000
END:DAYLIGHT
BEGIN:STANDARD
TZOFFSETFROM:+0100
TZOFFSETTO:+0000
TZNAME:GMT
DTSTART:20251026T010000
END:STANDARD
END:VTIMEZONE
BEGIN:VEVENT
DTSTART;TZID=Europe/London:20250625T200000
DTEND;TZID=Europe/London:20250625T223000
DTSTAMP:20260423T184611
CREATED:20250321T090737Z
LAST-MODIFIED:20250515T095854Z
UID:1895-1750881600-1750890600@banburyfolkclub.co.uk
SUMMARY:The Breaded Churchman
DESCRIPTION:I was born in Sheffield in 1980. I first picked up the guitar when I was 14: quite a late bloomer in guitar playing terms. Not that any age can’t begin learning. I had a few lessons – maybe half a dozen – but I was ultimately determined to teach myself how to play. This I achieved in two ways: 1) by systematically devouring the entire discography of Pink Floyd\, Dire Straits\, Queen\, Fleetwood Mac\, Eric Clapton\, and many more. 2) By TEACHING it myself. I can’t overstate enough how much of an impact teaching the guitar has had on my development as a musician. \n \nSupport is from Maevis Moon.
URL:https://banburyfolkclub.co.uk/event/the-breaded-churchman/
END:VEVENT
END:VCALENDAR