BEGIN:VCALENDAR
VERSION:2.0
PRODID:-//Banbury Folk Club - ECPv5.14.0.4//NONSGML v1.0//EN
CALSCALE:GREGORIAN
METHOD:PUBLISH
X-WR-CALNAME:Banbury Folk Club
X-ORIGINAL-URL:https://banburyfolkclub.co.uk
X-WR-CALDESC:Events for Banbury Folk Club
BEGIN:VTIMEZONE
TZID:Europe/London
BEGIN:DAYLIGHT
TZOFFSETFROM:+0000
TZOFFSETTO:+0100
TZNAME:BST
DTSTART:20250330T010000
END:DAYLIGHT
BEGIN:STANDARD
TZOFFSETFROM:+0100
TZOFFSETTO:+0000
TZNAME:GMT
DTSTART:20251026T010000
END:STANDARD
END:VTIMEZONE
BEGIN:VEVENT
DTSTART;TZID=Europe/London:20250219T200000
DTEND;TZID=Europe/London:20250219T223000
DTSTAMP:20260421T214847
CREATED:20250113T234946Z
LAST-MODIFIED:20250123T124027Z
UID:1805-1739995200-1740004200@banburyfolkclub.co.uk
SUMMARY:Looma
DESCRIPTION:Three parts English\, one part Orkney\, and recently described as Leicester’s ‘superb roots combo’\, Looma play acoustic roots and folk from the swamps of Louisiana to the Swedish midnight sun\, and everywhere in between. Bringing together folk\, blues\, cajun\, old-time and country traditions\, as well as original songs\, Loomamix driving energy with strong vocals and foot-tapping tunes.  \nFormed in 2017\, Looma have played club\, pubs\, parties and festivals around the Midlands and further afield\, winning an enthusiastic and loyal following. \nLooma are: Liz Logie: Piano Accordion\, Vocals. Liz is an Orcadian who has played the accordion since she was ten\, being inspired to play by her father\, who was a well-known Orkney accordion player. \nMark Theobald:  Harmonica\, Vocals. Mark has twice won the title of  National Harmonica League ‘Player of the Year’\, playing Blues and Irish music.  \nBob Gilmour-Evans:  Guitar\, Vocals. Bob has been performing and writing songs since his youth but feels he is now moving into his prime years. He has recorded several albums and many other artists have covered his songs. \nTim Garland: Cittern\, Fiddle\, Guitar\, Whistle\, Vocals. Tim has been performing traditional and self-penned material for over thirty years\, both as a founder member of Midlands based radical folk group Fieldwork and with Kasutima Ceilidh band\, playing nationally at clubs\, festivals and on national and local radio. He has made five albums with Fieldwork and two solo albums. \nOur self-titled album ‘Looma’ is now available on Spotify https://spotify.link/JQzQjlSwfDb \nMore band information and videos of us in performance can be found at our Facebookpage:  https://www.facebook.com/LoomaLeicester/ \n \nSupport from Roaming Spirits.
URL:https://banburyfolkclub.co.uk/event/looma/
END:VEVENT
END:VCALENDAR