BEGIN:VCALENDAR
VERSION:2.0
PRODID:-//Banbury Folk Club - ECPv5.14.0.4//NONSGML v1.0//EN
CALSCALE:GREGORIAN
METHOD:PUBLISH
X-WR-CALNAME:Banbury Folk Club
X-ORIGINAL-URL:https://banburyfolkclub.co.uk
X-WR-CALDESC:Events for Banbury Folk Club
BEGIN:VTIMEZONE
TZID:Europe/London
BEGIN:DAYLIGHT
TZOFFSETFROM:+0000
TZOFFSETTO:+0100
TZNAME:BST
DTSTART:20240331T010000
END:DAYLIGHT
BEGIN:STANDARD
TZOFFSETFROM:+0100
TZOFFSETTO:+0000
TZNAME:GMT
DTSTART:20241027T010000
END:STANDARD
END:VTIMEZONE
BEGIN:VEVENT
DTSTART;TZID=Europe/London:20241211T200000
DTEND;TZID=Europe/London:20241211T223000
DTSTAMP:20260424T202843
CREATED:20240525T091543Z
LAST-MODIFIED:20241012T095814Z
UID:1729-1733947200-1733956200@banburyfolkclub.co.uk
SUMMARY:Folklaw
DESCRIPTION:Supporting artists such as The Shires\, Seth Lakeman\, Mad Dog McCrae and more\, Folklaw have toured across Europe\, at festivals\, concerts and gigs winning friends and fans as they go! Described as “Stylish passionate folk rock” by R2 magazine\, FolkLaw’s songs and music guarantee to get feet tapping\, minds thinking and festival-feet jumping. FolkLaw’s acrobatic fiddling and earthy vocals\, have reached the airwaves of radio stations around the world from the BBC to Radio Caroline\, and their energized and engaging stage performance has led FolkLaw to be described as “one of the most exciting acts to grace the stage”!
URL:https://banburyfolkclub.co.uk/event/folklaw-2/
END:VEVENT
END:VCALENDAR