BEGIN:VCALENDAR
VERSION:2.0
PRODID:-//Banbury Folk Club - ECPv5.14.0.4//NONSGML v1.0//EN
CALSCALE:GREGORIAN
METHOD:PUBLISH
X-WR-CALNAME:Banbury Folk Club
X-ORIGINAL-URL:https://banburyfolkclub.co.uk
X-WR-CALDESC:Events for Banbury Folk Club
BEGIN:VTIMEZONE
TZID:Europe/London
BEGIN:DAYLIGHT
TZOFFSETFROM:+0000
TZOFFSETTO:+0100
TZNAME:BST
DTSTART:20230326T010000
END:DAYLIGHT
BEGIN:STANDARD
TZOFFSETFROM:+0100
TZOFFSETTO:+0000
TZNAME:GMT
DTSTART:20231029T010000
END:STANDARD
END:VTIMEZONE
BEGIN:VEVENT
DTSTART;TZID=Europe/London:20230621T200000
DTEND;TZID=Europe/London:20230621T223000
DTSTAMP:20260421T152338
CREATED:20230303T120156Z
LAST-MODIFIED:20230414T202315Z
UID:1326-1687377600-1687386600@banburyfolkclub.co.uk
SUMMARY:Filkins Duo
DESCRIPTION:Meeting in the multicultural city of Birmingham\, Seth and Chris weave together intricate melodies from the folklore of their homes\, Wales and Gloucestershire. As the duo Filkin’s Drift\, their music combines the traditional and the contemporary\, blending fiddle and guitar with their close vocal harmonies. \nOrnate interplay between two fretted instruments conjures up a Baroque soundworld\, while their foot-stomping fiddle and guitar tunes have been igniting audiences across the UK. \n \nSupport is from Chessi O’Dowd\,
URL:https://banburyfolkclub.co.uk/event/filkins-duo/
END:VEVENT
END:VCALENDAR