BEGIN:VCALENDAR
VERSION:2.0
PRODID:-//Banbury Folk Club - ECPv5.14.0.4//NONSGML v1.0//EN
CALSCALE:GREGORIAN
METHOD:PUBLISH
X-WR-CALNAME:Banbury Folk Club
X-ORIGINAL-URL:https://banburyfolkclub.co.uk
X-WR-CALDESC:Events for Banbury Folk Club
BEGIN:VTIMEZONE
TZID:Europe/London
BEGIN:DAYLIGHT
TZOFFSETFROM:+0000
TZOFFSETTO:+0100
TZNAME:BST
DTSTART:20230326T010000
END:DAYLIGHT
BEGIN:STANDARD
TZOFFSETFROM:+0100
TZOFFSETTO:+0000
TZNAME:GMT
DTSTART:20231029T010000
END:STANDARD
END:VTIMEZONE
BEGIN:VEVENT
DTSTART;TZID=Europe/London:20230607T200000
DTEND;TZID=Europe/London:20230607T223000
DTSTAMP:20260421T153213
CREATED:20230303T115935Z
LAST-MODIFIED:20230414T202123Z
UID:1322-1686168000-1686177000@banburyfolkclub.co.uk
SUMMARY:KC Jones
DESCRIPTION:KC Jones are Karen Killeen-Jones and Colin Jones\, a husband and wife duo who started performing together in 2009 and went on to record a sellout album ‘Captive’ in 2013. This April they are releasing their second album ‘Roots’. This is what they say about KC Jones “Beautifully written songs\, powerful vocals and great harmonies”. \n \nSupport is from David Ian.
URL:https://banburyfolkclub.co.uk/event/kc-jones-duo/
END:VEVENT
END:VCALENDAR