BEGIN:VCALENDAR
VERSION:2.0
PRODID:-//Banbury Folk Club - ECPv5.14.0.4//NONSGML v1.0//EN
CALSCALE:GREGORIAN
METHOD:PUBLISH
X-WR-CALNAME:Banbury Folk Club
X-ORIGINAL-URL:https://banburyfolkclub.co.uk
X-WR-CALDESC:Events for Banbury Folk Club
BEGIN:VTIMEZONE
TZID:Europe/London
BEGIN:DAYLIGHT
TZOFFSETFROM:+0000
TZOFFSETTO:+0100
TZNAME:BST
DTSTART:20230326T010000
END:DAYLIGHT
BEGIN:STANDARD
TZOFFSETFROM:+0100
TZOFFSETTO:+0000
TZNAME:GMT
DTSTART:20231029T010000
END:STANDARD
END:VTIMEZONE
BEGIN:VEVENT
DTSTART;TZID=Europe/London:20230301T200000
DTEND;TZID=Europe/London:20230301T223000
DTSTAMP:20260421T201813
CREATED:20220920T194017Z
LAST-MODIFIED:20230109T100832Z
UID:1178-1677700800-1677709800@banburyfolkclub.co.uk
SUMMARY:Welsh Night with Pete Watkins
DESCRIPTION:No Introduction really needed for Pete. An incredible songwriter and performer. His self-penned songs are masterpieces and his covers of classic songs are always unique.
URL:https://banburyfolkclub.co.uk/event/welsh-night-with-pete-watkins/
END:VEVENT
END:VCALENDAR