BEGIN:VCALENDAR
VERSION:2.0
PRODID:-//Banbury Folk Club - ECPv5.14.0.4//NONSGML v1.0//EN
CALSCALE:GREGORIAN
METHOD:PUBLISH
X-WR-CALNAME:Banbury Folk Club
X-ORIGINAL-URL:https://banburyfolkclub.co.uk
X-WR-CALDESC:Events for Banbury Folk Club
BEGIN:VTIMEZONE
TZID:Europe/London
BEGIN:DAYLIGHT
TZOFFSETFROM:+0000
TZOFFSETTO:+0100
TZNAME:BST
DTSTART:20230326T010000
END:DAYLIGHT
BEGIN:STANDARD
TZOFFSETFROM:+0100
TZOFFSETTO:+0000
TZNAME:GMT
DTSTART:20231029T010000
END:STANDARD
END:VTIMEZONE
BEGIN:VEVENT
DTSTART;TZID=Europe/London:20230222T200000
DTEND;TZID=Europe/London:20230222T223000
DTSTAMP:20260421T214847
CREATED:20220611T152309Z
LAST-MODIFIED:20230114T081955Z
UID:1125-1677096000-1677105000@banburyfolkclub.co.uk
SUMMARY:John Mosedale
DESCRIPTION:John Mosedale is a songwriter and guitarist who entered the folk scene at an age when many people are considering early retirement. Since then he has performed at Upton\, Banbury\, Cromer & Charmouth Folk Festivals\, Worcester Music Festival and Brecon Fringe Festival\, as well as host of folk clubs and other venues up and down the country. \nHis all-original set is a blend of funny songs and more thought-provoking autobiographical material. Each song has a story behind it\, with audiences turning into a sea of nodding heads as they relate to the stories being told and the finely crafted songs that follow. \n“No frills\, honest\, singalong folk songs” – FATEA Magazine
URL:https://banburyfolkclub.co.uk/event/paul-mcgladdery/
END:VEVENT
END:VCALENDAR