BEGIN:VCALENDAR
VERSION:2.0
PRODID:-//Banbury Folk Club - ECPv5.14.0.4//NONSGML v1.0//EN
CALSCALE:GREGORIAN
METHOD:PUBLISH
X-WR-CALNAME:Banbury Folk Club
X-ORIGINAL-URL:https://banburyfolkclub.co.uk
X-WR-CALDESC:Events for Banbury Folk Club
BEGIN:VTIMEZONE
TZID:Europe/London
BEGIN:DAYLIGHT
TZOFFSETFROM:+0000
TZOFFSETTO:+0100
TZNAME:BST
DTSTART:20230326T010000
END:DAYLIGHT
BEGIN:STANDARD
TZOFFSETFROM:+0100
TZOFFSETTO:+0000
TZNAME:GMT
DTSTART:20231029T010000
END:STANDARD
END:VTIMEZONE
BEGIN:VEVENT
DTSTART;TZID=Europe/London:20230208T200000
DTEND;TZID=Europe/London:20230208T223000
DTSTAMP:20260421T214825
CREATED:20220905T221026Z
LAST-MODIFIED:20230105T153742Z
UID:1167-1675886400-1675895400@banburyfolkclub.co.uk
SUMMARY:The Kevin O'Regan Band
DESCRIPTION:Local group\, The Kevin O’Regan Band is returning to perform at Banbury after a gap of some four years. \nThe Band consists of Kevin O’Regan on guitar and vocals\, Kevin Ward on five string fretless bass and Rai Clews on cajon. Most of the material is original and was written by Kevin O’Regan who reached the finals of the UK Songwriting Contest a few years ago. \nThe Band used to perform regularly in Banbury at the Folk Club\, Folk Festival and at other events and venues but the pandemic\, as with so many things\, has been a major disruption. “We’re so pleased to be back. Banbury Folk Club is a very friendly club which welcomes newcomers and regular audience members alike\,” Kevin commented. \nKevin O’Regan performs solo as well as with the band. Over the last two years\, he has been playing at shows around the UK from Southampton to Cheshire. “This is the only show we’ve got booked in the Banbury area for the time being though we are doing an Irish night at The Albion Bar in Northampton town centre on St Patrick’s night\, 17th March.” Kevin has produced two albums and a DVD\, which are available on his web-site for download or hard copy. He recently published his first novel\, The Dresden Tango\, which is available on Amazon. \nAs his name suggests\, Kevin O’Regan has Irish heritage and some of his songs reflect that. Some of them will be included in the set but. many other songs will be included.” \n \n 
URL:https://banburyfolkclub.co.uk/event/kevin-oregan/
END:VEVENT
END:VCALENDAR