BEGIN:VCALENDAR
VERSION:2.0
PRODID:-//Banbury Folk Club - ECPv5.14.0.4//NONSGML v1.0//EN
CALSCALE:GREGORIAN
METHOD:PUBLISH
X-WR-CALNAME:Banbury Folk Club
X-ORIGINAL-URL:https://banburyfolkclub.co.uk
X-WR-CALDESC:Events for Banbury Folk Club
BEGIN:VTIMEZONE
TZID:Europe/London
BEGIN:DAYLIGHT
TZOFFSETFROM:+0000
TZOFFSETTO:+0100
TZNAME:BST
DTSTART:20220327T010000
END:DAYLIGHT
BEGIN:STANDARD
TZOFFSETFROM:+0100
TZOFFSETTO:+0000
TZNAME:GMT
DTSTART:20221030T010000
END:STANDARD
END:VTIMEZONE
BEGIN:VEVENT
DTSTART;TZID=Europe/London:20221109T200000
DTEND;TZID=Europe/London:20221109T223000
DTSTAMP:20260422T020629
CREATED:20220611T130646Z
LAST-MODIFIED:20220615T125351Z
UID:1117-1668024000-1668033000@banburyfolkclub.co.uk
SUMMARY:Melancholy Brothers
DESCRIPTION:Russell and Dave are not actually brothers\, and although they do like a sad song\, they are not always melancholy.  They have been playing together for longer than they care to remember and have made two albums of original material – The Melancholy Brothers (2015) and Until the Sun Goes Down (2018).  Both albums feature thoughtful lyrics with their trademark vocal harmonies and finely-crafted guitar arrangements.  In live performance they feature a mix of their own songs with carefully-chosen covers\, often of songs which you don’t often hear in a folk club!
URL:https://banburyfolkclub.co.uk/event/melancholy-boys/
END:VEVENT
END:VCALENDAR