BEGIN:VCALENDAR
VERSION:2.0
PRODID:-//Banbury Folk Club - ECPv5.14.0.4//NONSGML v1.0//EN
CALSCALE:GREGORIAN
METHOD:PUBLISH
X-WR-CALNAME:Banbury Folk Club
X-ORIGINAL-URL:https://banburyfolkclub.co.uk
X-WR-CALDESC:Events for Banbury Folk Club
BEGIN:VTIMEZONE
TZID:Europe/London
BEGIN:DAYLIGHT
TZOFFSETFROM:+0000
TZOFFSETTO:+0100
TZNAME:BST
DTSTART:20220327T010000
END:DAYLIGHT
BEGIN:STANDARD
TZOFFSETFROM:+0100
TZOFFSETTO:+0000
TZNAME:GMT
DTSTART:20221030T010000
END:STANDARD
END:VTIMEZONE
BEGIN:VEVENT
DTSTART;TZID=Europe/London:20221102T200000
DTEND;TZID=Europe/London:20221102T223000
DTSTAMP:20260422T022613
CREATED:20220427T105638Z
LAST-MODIFIED:20220427T105638Z
UID:1073-1667419200-1667428200@banburyfolkclub.co.uk
SUMMARY:Good Habits
DESCRIPTION:Described as “engagingly clear across a rich variety of styles” (Songlines)\, Good Habits are a UK alt-folk duo\, telling stories and turning heads across the globe. Composed of singer-cellist Bonnie Schwarz and accordionist Pete Shaw\, the duo create folk-ish musical tales\, with captivating lyrics married with their unique brand of brisk instrumental virtuosity. \nDuring time spent happily stranded in New Zealand because of the pandemic\, Good Habits have performed alongside the country’s top acts including Nadia Reid\, Ria Hall and Lost Tribe Aotearoa\, and won the Purbeck Folk Rising Award 2020. Debut album Going For Broke received glowing press in Songlines and the New Zealand Herald\, and their hectic tour schedule has included performances at New Zealand’s largest festivals\, including CubaDupa\, TSB Festival of Lights\, Luminate and countless other independent venues. Their homecoming in October 2021 saw performances at Manchester Folk Festival\, BBC appearances (BBC Introducing and BBC Folk Show) and much more.
URL:https://banburyfolkclub.co.uk/event/good-habits/
END:VEVENT
END:VCALENDAR