BEGIN:VCALENDAR
VERSION:2.0
PRODID:-//Banbury Folk Club - ECPv5.14.0.4//NONSGML v1.0//EN
CALSCALE:GREGORIAN
METHOD:PUBLISH
X-WR-CALNAME:Banbury Folk Club
X-ORIGINAL-URL:https://banburyfolkclub.co.uk
X-WR-CALDESC:Events for Banbury Folk Club
BEGIN:VTIMEZONE
TZID:Europe/London
BEGIN:DAYLIGHT
TZOFFSETFROM:+0000
TZOFFSETTO:+0100
TZNAME:BST
DTSTART:20220327T010000
END:DAYLIGHT
BEGIN:STANDARD
TZOFFSETFROM:+0100
TZOFFSETTO:+0000
TZNAME:GMT
DTSTART:20221030T010000
END:STANDARD
END:VTIMEZONE
BEGIN:VEVENT
DTSTART;TZID=Europe/London:20220928T200000
DTEND;TZID=Europe/London:20220928T223000
DTSTAMP:20260422T034808
CREATED:20220611T130122Z
LAST-MODIFIED:20220615T121719Z
UID:1115-1664395200-1664404200@banburyfolkclub.co.uk
SUMMARY:Cathryn Craig & Brian Willoughby
DESCRIPTION:Having gone down a storm at our 2018 Festival\, we just had to get them at the club. Individually\, they have worked with the likes of The Righteous Brothers\, Shel Silverstein\, Mary Hopkin\, The Strawbs and Nancy Griffith. Now they are front of stage\, singing and playing their own brand of acoustic\, guitar-based material. \n“Funny stories. .. serious songs.. . great singing… inventive guitar playing. Their warmth\, songs\, musicianship and stories kept the audience captive throughout a very special evening.”  Peter Grogan (103.2 Dublin City FM) \n“I love that duo of Craig & Willoughby what a perfect combination .. great songs\, great singing… just magic…” Noel Casey (103.2 Dublin City FM) \n“A wonderful weave of songs and stories wrapped in subtle colours of musical genius and delivered with an effortless stagecraft drawn from long roads travelled.” Colum Sands (Musician and Broadcaster)
URL:https://banburyfolkclub.co.uk/event/cathryn-craig-brian-willoughby/
END:VEVENT
END:VCALENDAR