BEGIN:VCALENDAR
VERSION:2.0
PRODID:-//Banbury Folk Club - ECPv5.14.0.4//NONSGML v1.0//EN
CALSCALE:GREGORIAN
METHOD:PUBLISH
X-WR-CALNAME:Banbury Folk Club
X-ORIGINAL-URL:https://banburyfolkclub.co.uk
X-WR-CALDESC:Events for Banbury Folk Club
BEGIN:VTIMEZONE
TZID:Europe/London
BEGIN:DAYLIGHT
TZOFFSETFROM:+0000
TZOFFSETTO:+0100
TZNAME:BST
DTSTART:20220327T010000
END:DAYLIGHT
BEGIN:STANDARD
TZOFFSETFROM:+0100
TZOFFSETTO:+0000
TZNAME:GMT
DTSTART:20221030T010000
END:STANDARD
END:VTIMEZONE
BEGIN:VEVENT
DTSTART;TZID=Europe/London:20220914T200000
DTEND;TZID=Europe/London:20220914T223000
DTSTAMP:20260422T091936
CREATED:20220501T185612Z
LAST-MODIFIED:20220901T095733Z
UID:1089-1663185600-1663194600@banburyfolkclub.co.uk
SUMMARY:The Skeptics
DESCRIPTION:Andy Zukowski\, Peter ‘Badger’ West and David Alleyn\, collectively known as The SKEPTICS\, are a North Oxfordshire based\, male a-cappella trio who have become widely known for their stunning harmonies and distinctive style. \nWith their musical roots firmly planted in a variety of genres including folk\, jazz and choral\, they came together in 2009 via a shared desire to bring something different to the folk canon whilst honouring its traditions and heritage. \nAs regular performers at several regional festivals including Folk Weekend Oxford\, BunkFest and Banbury Folk Festival\, they delight audiences of all ages and have steadily built up a reputation as the perfect act for any occasion with their quirky entertaining performances. \nWith 3 albums already released\, and another in the pipeline\, The SKEPTICS audio recordings span an eclectic mix of songs and styles\, including everything from Blur to Bagpuss and Bluegrass to The Bahamas … all of which perfectly encapsulates their passion for mixing the traditional with the unexpected. \nSo\, whether you catch The SKEPTICS at a live gig\, listen to their audio recordings on SoundCloud\, or watch their curated selection of videos on YouTube\, you’ll be amazed at the wide range of genres they can “Skepticise” into folk/fusion! \n \nSupport is from The Meloncholy Boys. Russell and Dave are not actually brothers\, and although they do like a sad song\, they are not always melancholy.  They have been playing together for longer than they care to remember and have made two albums of original material – The Melancholy Brothers (2015) and Until the Sun Goes Down (2018).  Both albums feature thoughtful lyrics with their trademark vocal harmonies and finely-crafted guitar arrangements.  In live performance they feature a mix of their own songs with carefully-chosen covers\, often of songs which you don’t often hear in a folk club!
URL:https://banburyfolkclub.co.uk/event/the-skeptics/
END:VEVENT
END:VCALENDAR