BEGIN:VCALENDAR
VERSION:2.0
PRODID:-//Banbury Folk Club - ECPv5.14.0.4//NONSGML v1.0//EN
CALSCALE:GREGORIAN
METHOD:PUBLISH
X-WR-CALNAME:Banbury Folk Club
X-ORIGINAL-URL:https://banburyfolkclub.co.uk
X-WR-CALDESC:Events for Banbury Folk Club
BEGIN:VTIMEZONE
TZID:Europe/London
BEGIN:DAYLIGHT
TZOFFSETFROM:+0000
TZOFFSETTO:+0100
TZNAME:BST
DTSTART:20220327T010000
END:DAYLIGHT
BEGIN:STANDARD
TZOFFSETFROM:+0100
TZOFFSETTO:+0000
TZNAME:GMT
DTSTART:20221030T010000
END:STANDARD
END:VTIMEZONE
BEGIN:VEVENT
DTSTART;TZID=Europe/London:20220525T200000
DTEND;TZID=Europe/London:20220525T223000
DTSTAMP:20260422T151810
CREATED:20220222T172245Z
LAST-MODIFIED:20220425T103607Z
UID:945-1653508800-1653517800@banburyfolkclub.co.uk
SUMMARY:John Conolly. Support from Simon Loake
DESCRIPTION:JOHN CONOLLY is an internationally-respected songwriter\, who has based his style firmly in the\nBritish folk tradition. His most popular song\, “FIDDLERS’ GREEN” – a fisherman’s vision of Paradise – is performed and loved all over the world.\nJohn’s childhood was spent not far from the docks in the English fishing port of Grimsby\, where the River Humber joins the North Sea\, and where his grandfather and great-grandfather learned their trade as shipwrights in the riverside dockyards. As the fishing industry declined\, following the “Cod Wars” with Iceland\, John watched the local fishing fleet limp into oblivion\, and began to chronicle the lives and labours of the men who worked on the trawlers and along the waterside. “FIDDLERS’ GREEN”\, written in the 1960’s\, was popularised by folk artistes like the Dubliners and the Clancy Brothers\, and has become firmly embedded in the canon of maritime music.\n \nSupport is from Simon Loake\, making a welcome return to the club.
URL:https://banburyfolkclub.co.uk/event/john-connelly/
END:VEVENT
END:VCALENDAR