BEGIN:VCALENDAR
VERSION:2.0
PRODID:-//Banbury Folk Club - ECPv5.14.0.4//NONSGML v1.0//EN
CALSCALE:GREGORIAN
METHOD:PUBLISH
X-WR-CALNAME:Banbury Folk Club
X-ORIGINAL-URL:https://banburyfolkclub.co.uk
X-WR-CALDESC:Events for Banbury Folk Club
BEGIN:VTIMEZONE
TZID:Europe/London
BEGIN:DAYLIGHT
TZOFFSETFROM:+0000
TZOFFSETTO:+0100
TZNAME:BST
DTSTART:20220327T010000
END:DAYLIGHT
BEGIN:STANDARD
TZOFFSETFROM:+0100
TZOFFSETTO:+0000
TZNAME:GMT
DTSTART:20221030T010000
END:STANDARD
END:VTIMEZONE
BEGIN:VEVENT
DTSTART;TZID=Europe/London:20220504T200000
DTEND;TZID=Europe/London:20220504T223000
DTSTAMP:20260422T151615
CREATED:20220217T231423Z
LAST-MODIFIED:20220428T145846Z
UID:935-1651694400-1651703400@banburyfolkclub.co.uk
SUMMARY:Dom Prag. Support from Ecrow
DESCRIPTION:This is definitely one not to miss! This\, from Folk Radio UK\, pretty much sums him up: \n“(Dom) has propelled himself straight from the “definitely one to watch” category straight to the top rank of distinctive\, individual folk performers.” Folk Radio UK reviewing NEEDLE & THREAD the 2nd album from Dom Prag\, produced by folk legend Phil Beer \, due out on 25 Feb. \nI would add that he is one of the most talented newcomers I have seen for a very long time. \n \nSupport is from ECROW\, which is Scarecrow minus Rey\, who has another commitment tonight. But\, Dave and Gordon will be entertaining us\, in the usual Scarecrow manner.
URL:https://banburyfolkclub.co.uk/event/dom-prag-2/
END:VEVENT
END:VCALENDAR