BEGIN:VCALENDAR
VERSION:2.0
PRODID:-//Banbury Folk Club - ECPv5.14.0.4//NONSGML v1.0//EN
CALSCALE:GREGORIAN
METHOD:PUBLISH
X-WR-CALNAME:Banbury Folk Club
X-ORIGINAL-URL:https://banburyfolkclub.co.uk
X-WR-CALDESC:Events for Banbury Folk Club
BEGIN:VTIMEZONE
TZID:Europe/London
BEGIN:DAYLIGHT
TZOFFSETFROM:+0000
TZOFFSETTO:+0100
TZNAME:BST
DTSTART:20220327T010000
END:DAYLIGHT
BEGIN:STANDARD
TZOFFSETFROM:+0100
TZOFFSETTO:+0000
TZNAME:GMT
DTSTART:20221030T010000
END:STANDARD
END:VTIMEZONE
BEGIN:VEVENT
DTSTART;TZID=Europe/London:20220429T200000
DTEND;TZID=Europe/London:20220429T223000
DTSTAMP:20260422T145907
CREATED:20220331T110617Z
LAST-MODIFIED:20220331T110617Z
UID:1024-1651262400-1651271400@banburyfolkclub.co.uk
SUMMARY:Scarecrow at The New Inn Middleton Cheney. Support from Rebecca Mileham.
DESCRIPTION:Please Note:\nThis is not a Banbury Folk Club organised event. However\, as both Scarecrow and Rebecca are big supporters of the club\, we wanted to advertise it for them.\nIt’s a charity event and the entry fee is a suggested donation of £8.
URL:https://banburyfolkclub.co.uk/event/scarecrow-at-the-new-inn-middleton-cheney-support-from-rebecca-mileham/
END:VEVENT
END:VCALENDAR