BEGIN:VCALENDAR
VERSION:2.0
PRODID:-//Banbury Folk Club - ECPv5.14.0.4//NONSGML v1.0//EN
CALSCALE:GREGORIAN
METHOD:PUBLISH
X-WR-CALNAME:Banbury Folk Club
X-ORIGINAL-URL:https://banburyfolkclub.co.uk
X-WR-CALDESC:Events for Banbury Folk Club
BEGIN:VTIMEZONE
TZID:Europe/London
BEGIN:DAYLIGHT
TZOFFSETFROM:+0000
TZOFFSETTO:+0100
TZNAME:BST
DTSTART:20220327T010000
END:DAYLIGHT
BEGIN:STANDARD
TZOFFSETFROM:+0100
TZOFFSETTO:+0000
TZNAME:GMT
DTSTART:20221030T010000
END:STANDARD
END:VTIMEZONE
BEGIN:VEVENT
DTSTART;TZID=Europe/London:20220427T200000
DTEND;TZID=Europe/London:20220427T223000
DTSTAMP:20260422T151717
CREATED:20220222T172100Z
LAST-MODIFIED:20220304T144318Z
UID:943-1651089600-1651098600@banburyfolkclub.co.uk
SUMMARY:Mike Moyse/Marian Wedley
DESCRIPTION:A double-header. Two established musicians\, who are doing their own solo sets tonight. \nMike has been part of many bands\, including The Linda Watkins Band and 60’s Jukebox. He is no stranger to the club and has played solo at our Festival Fringe events. He’s sure to get the audience singing along. \n \nMarian is also no stranger to the club\, having played solo and as part of Noah’s Cape. As well as covers\, she does her own self-penned songs.
URL:https://banburyfolkclub.co.uk/event/mike-moyse-marian-wedley/
END:VEVENT
END:VCALENDAR