BEGIN:VCALENDAR
VERSION:2.0
PRODID:-//Banbury Folk Club - ECPv5.14.0.4//NONSGML v1.0//EN
CALSCALE:GREGORIAN
METHOD:PUBLISH
X-WR-CALNAME:Banbury Folk Club
X-ORIGINAL-URL:https://banburyfolkclub.co.uk
X-WR-CALDESC:Events for Banbury Folk Club
BEGIN:VTIMEZONE
TZID:Europe/London
BEGIN:DAYLIGHT
TZOFFSETFROM:+0000
TZOFFSETTO:+0100
TZNAME:BST
DTSTART:20250330T010000
END:DAYLIGHT
BEGIN:STANDARD
TZOFFSETFROM:+0100
TZOFFSETTO:+0000
TZNAME:GMT
DTSTART:20251026T010000
END:STANDARD
END:VTIMEZONE
BEGIN:VEVENT
DTSTART;TZID=Europe/London:20250312T200000
DTEND;TZID=Europe/London:20250312T223000
DTSTAMP:20260422T050804
CREATED:20240204T135457Z
LAST-MODIFIED:20250122T150606Z
UID:1604-1741809600-1741818600@banburyfolkclub.co.uk
SUMMARY:Virginia Kettle
DESCRIPTION:Virginia Kettle is the very heart of the multi award-winning folk-rock band Merry Hell. Her\nsongs\, spirit and energies have helped drive the band ever upwards\, giving a significant\noutlet to her creativity\, providing anthems such as Bury Me Naked\, which had 20\,000 fans\nswaying in a Cropredy field\, as well as irresistible dancing tunes\, and slices of wry humour\nas seen in ‘VIOLET’\, her solo tour-de-force during the band set\, where she often forgoes the\nneed for amplification and wanders freely among the audience. Her solo album ‘No Place\nLike Tomorrow’ was a critical and popular success\, hitting the heights of No.1 in the Amazon\nFolk Charts within days of its release. \n \nSupport is from Yonderland.
URL:https://banburyfolkclub.co.uk/event/virginia-kettle/
END:VEVENT
END:VCALENDAR