BEGIN:VCALENDAR
VERSION:2.0
PRODID:-//Banbury Folk Club - ECPv5.14.0.4//NONSGML v1.0//EN
CALSCALE:GREGORIAN
METHOD:PUBLISH
X-WR-CALNAME:Banbury Folk Club
X-ORIGINAL-URL:https://banburyfolkclub.co.uk
X-WR-CALDESC:Events for Banbury Folk Club
BEGIN:VTIMEZONE
TZID:Europe/London
BEGIN:DAYLIGHT
TZOFFSETFROM:+0000
TZOFFSETTO:+0100
TZNAME:BST
DTSTART:20230326T010000
END:DAYLIGHT
BEGIN:STANDARD
TZOFFSETFROM:+0100
TZOFFSETTO:+0000
TZNAME:GMT
DTSTART:20231029T010000
END:STANDARD
END:VTIMEZONE
BEGIN:VEVENT
DTSTART;TZID=Europe/London:20230322T200000
DTEND;TZID=Europe/London:20230322T223000
DTSTAMP:20260421T215046
CREATED:20230317T093114Z
LAST-MODIFIED:20230317T093114Z
UID:1373-1679515200-1679524200@banburyfolkclub.co.uk
SUMMARY:Scarecrow Lite/Rebecca Mileham
DESCRIPTION:A double-header night. Dave and Gordon are based locally. They have supported Banbury Folk Club and Festival for many years. Their music is a splendid mix of beautiful tunes\, traditional songs and up tempo ballads which will have you cheering for more and dancing in the aisles. The repertoire includes some Irish instrumental music\, some distinctive songs and occasionally a twist of jazz or blues\, all have been worked on to produce tight and unusual arrangements. The band generates an atmosphere of good humour\, energy and fun. \n \n  \nA delightful return to the club\, for Rebecca Mileham. She played classical piano and violin for years but got to know the folk music scene when she moved to Oxfordshire. She played a solo set\, as well as playing violin and vocals in folk/indie band Liam Vincent and The Odd Foxes\, at the festival last year. She began writing solo songs using piano and violin and her first EP was released in 2022.
URL:https://banburyfolkclub.co.uk/event/scarecrow-lite-rebecca-mileham/
END:VEVENT
END:VCALENDAR