BEGIN:VCALENDAR
VERSION:2.0
PRODID:-//Banbury Folk Club - ECPv5.14.0.4//NONSGML v1.0//EN
CALSCALE:GREGORIAN
METHOD:PUBLISH
X-WR-CALNAME:Banbury Folk Club
X-ORIGINAL-URL:https://banburyfolkclub.co.uk
X-WR-CALDESC:Events for Banbury Folk Club
BEGIN:VTIMEZONE
TZID:Europe/London
BEGIN:DAYLIGHT
TZOFFSETFROM:+0000
TZOFFSETTO:+0100
TZNAME:BST
DTSTART:20220327T010000
END:DAYLIGHT
BEGIN:STANDARD
TZOFFSETFROM:+0100
TZOFFSETTO:+0000
TZNAME:GMT
DTSTART:20221030T010000
END:STANDARD
END:VTIMEZONE
BEGIN:VEVENT
DTSTART;TZID=Europe/London:20220309T200000
DTEND;TZID=Europe/London:20220309T223000
DTSTAMP:20260424T000148
CREATED:20220215T160614Z
LAST-MODIFIED:20220222T102036Z
UID:898-1646856000-1646865000@banburyfolkclub.co.uk
SUMMARY:Rebecca Mileham
DESCRIPTION:A delightful return to the club\, for this talented lady. Rebecca played classical piano and violin for years but got to know the folk music scene when she moved to Oxfordshire. She now provides violin and vocals in folk/indie band Liam Vincent and The Odd Foxes\, and has begun writing solo songs using piano and violin. Her first EP will be released in 2022. \n \nSupport is from Russell Heyworth\, a singer – songwriter – poet from Northampton\, who played bass for many years and 2 years ago decided to have a go at singing and writing. Since then he’s composed over 100 songs and written 100 pages of poetry. He’s kept pretty busy around the Northants region either solo or with his laid back band. Playing original material\, his songs range from modern folk narratives\, relationship philosophy\, to the ups and downs of living in Northampton. He runs the “Hushed” acoustic nights at The Lab\, Northampton and has a radio show on NLive Radio 106.9FM.
URL:https://banburyfolkclub.co.uk/event/rebecca-mileham/
END:VEVENT
END:VCALENDAR