BEGIN:VCALENDAR
VERSION:2.0
PRODID:-//Banbury Folk Club - ECPv5.14.0.4//NONSGML v1.0//EN
CALSCALE:GREGORIAN
METHOD:PUBLISH
X-WR-CALNAME:Banbury Folk Club
X-ORIGINAL-URL:https://banburyfolkclub.co.uk
X-WR-CALDESC:Events for Banbury Folk Club
BEGIN:VTIMEZONE
TZID:Europe/London
BEGIN:DAYLIGHT
TZOFFSETFROM:+0000
TZOFFSETTO:+0100
TZNAME:BST
DTSTART:20230326T010000
END:DAYLIGHT
BEGIN:STANDARD
TZOFFSETFROM:+0100
TZOFFSETTO:+0000
TZNAME:GMT
DTSTART:20231029T010000
END:STANDARD
END:VTIMEZONE
BEGIN:VEVENT
DTSTART;TZID=Europe/London:20230517T200000
DTEND;TZID=Europe/London:20230517T223000
DTSTAMP:20260421T171822
CREATED:20230201T103850Z
LAST-MODIFIED:20230311T142431Z
UID:1290-1684353600-1684362600@banburyfolkclub.co.uk
SUMMARY:Paul William Gibson
DESCRIPTION:Paul William Gibson is a solo singer/songwriter from Warwickshire in the Midlands of England. He writes and plays original songs with a country\, folk and Americana flavour. He released a self produced EP of acoustic demos called ‘Homespun’ in Summer 2022\, and will release a new EP ‘Chasing Sunsets’ (produced by award winning folk/roots duo Tu-Kay & Ryan) on 26th May 2023. The release of the EP is preceded by a single ‘Travelling Days’\, released on 24th March.\nPaul walks the line between the contemporary folk and Americana worlds\, his songs showcasing a strong\nmelodic and poetic core. His lyrics are observational\, character driven and confessional. Paul is a regular on the Warwickshire and Oxfordshire folk and acoustic scenes and regularly plays further afield. As well as the release of the ‘Chasing Sunsets’ EP\, the summer has in store several festival appearances alongside regular gigs\, including: A Taste of Spring Festival in Banbury\, Kineton Music Festival in Warwickshire and SyndiFest in Leamington Spa\, with more TBA. \n \nSupport is from club debutante\, Keiron Farrow.
URL:https://banburyfolkclub.co.uk/event/paul-william-gibson/
END:VEVENT
END:VCALENDAR