BEGIN:VCALENDAR
VERSION:2.0
PRODID:-//Banbury Folk Club - ECPv5.14.0.4//NONSGML v1.0//EN
CALSCALE:GREGORIAN
METHOD:PUBLISH
X-WR-CALNAME:Banbury Folk Club
X-ORIGINAL-URL:https://banburyfolkclub.co.uk
X-WR-CALDESC:Events for Banbury Folk Club
BEGIN:VTIMEZONE
TZID:Europe/London
BEGIN:DAYLIGHT
TZOFFSETFROM:+0000
TZOFFSETTO:+0100
TZNAME:BST
DTSTART:20240331T010000
END:DAYLIGHT
BEGIN:STANDARD
TZOFFSETFROM:+0100
TZOFFSETTO:+0000
TZNAME:GMT
DTSTART:20241027T010000
END:STANDARD
END:VTIMEZONE
BEGIN:VEVENT
DTSTART;VALUE=DATE:20240612
DTEND;VALUE=DATE:20240613
DTSTAMP:20260422T205508
CREATED:20240204T140736Z
LAST-MODIFIED:20240204T140801Z
UID:1609-1718150400-1718236799@banburyfolkclub.co.uk
SUMMARY:NO CLUB TONIGHT
DESCRIPTION:As there is an event in town that will impact on our audience\, we have decided to have a night off. Most of us will be at the other event anyway!
URL:https://banburyfolkclub.co.uk/event/no-club-tonight-4/
END:VEVENT
END:VCALENDAR