BEGIN:VCALENDAR
VERSION:2.0
PRODID:-//Banbury Folk Club - ECPv5.14.0.4//NONSGML v1.0//EN
CALSCALE:GREGORIAN
METHOD:PUBLISH
X-WR-CALNAME:Banbury Folk Club
X-ORIGINAL-URL:https://banburyfolkclub.co.uk
X-WR-CALDESC:Events for Banbury Folk Club
BEGIN:VTIMEZONE
TZID:Europe/London
BEGIN:DAYLIGHT
TZOFFSETFROM:+0000
TZOFFSETTO:+0100
TZNAME:BST
DTSTART:20230326T010000
END:DAYLIGHT
BEGIN:STANDARD
TZOFFSETFROM:+0100
TZOFFSETTO:+0000
TZNAME:GMT
DTSTART:20231029T010000
END:STANDARD
END:VTIMEZONE
BEGIN:VEVENT
DTSTART;TZID=Europe/London:20230322T200000
DTEND;TZID=Europe/London:20230322T223000
DTSTAMP:20260421T201948
CREATED:20230109T104515Z
LAST-MODIFIED:20230317T092529Z
UID:1249-1679515200-1679524200@banburyfolkclub.co.uk
SUMMARY:Miranda Sykes - Cancelled
DESCRIPTION:Sadly\, Miranda has been taken ill and is unable to perform. We wish her all the best for a speedy recovery. See separate event for this week. \nMiranda Sykes\, the acclaimed singer and bassist with ‘Show of Hands’ is returning to her roots. After a career spanning over 20 years\, during which time she has played with many of the top musicians and singers within the folk world\, she is touring as she started out: one woman\, one bass\, and one guitar. \nBuilding on the success of her Borrowed Places tour\, Miranda Sykes is back with a completely new project: Behind The Wall. Where Borrowed Places opened a window into the past\, explaining where she had been\, physically & spiritually\, Behind The Wall is a Roller Coaster Ride exploring where we are going; Miranda\, you\, me\, all of us. What does it mean to be human today\, living in our communities & societies & where will our actions lead us? Powerful and hard-hitting but also poignant & beautiful\, this show gives us all a chance to reflect & maybe even empower us.
URL:https://banburyfolkclub.co.uk/event/miranda-sykes-3/
END:VEVENT
END:VCALENDAR