BEGIN:VCALENDAR
VERSION:2.0
PRODID:-//Banbury Folk Club - ECPv5.14.0.4//NONSGML v1.0//EN
CALSCALE:GREGORIAN
METHOD:PUBLISH
X-WR-CALNAME:Banbury Folk Club
X-ORIGINAL-URL:https://banburyfolkclub.co.uk
X-WR-CALDESC:Events for Banbury Folk Club
BEGIN:VTIMEZONE
TZID:Europe/London
BEGIN:DAYLIGHT
TZOFFSETFROM:+0000
TZOFFSETTO:+0100
TZNAME:BST
DTSTART:20220327T010000
END:DAYLIGHT
BEGIN:STANDARD
TZOFFSETFROM:+0100
TZOFFSETTO:+0000
TZNAME:GMT
DTSTART:20221030T010000
END:STANDARD
END:VTIMEZONE
BEGIN:VEVENT
DTSTART;TZID=Europe/London:20220713T200000
DTEND;TZID=Europe/London:20220713T223000
DTSTAMP:20260422T120734
CREATED:20220311T151345Z
LAST-MODIFIED:20220427T072109Z
UID:1011-1657742400-1657751400@banburyfolkclub.co.uk
SUMMARY:Michael Cassidy. Support from Abi.
DESCRIPTION:Michael Cassidy’s ear-pleasing brogue Scottish voice has always been front and centre of his music\, and with I Am Free\, the opening track and lead single from his new album\, he returns with just that – voice front and centre. \nComplimented superbly by soaring harmonies\, he ponders the nature of beauty\, life\, and life lived through the journey of a metamorphosing caterpillar. The track rouses warmly as a solitary organ drone builds beneath \nMichael’s musing voice\, reconciling life’s plans gone awry with the need for patience. The track undergoes the aforementioned metamorphosis as violin swirls the air\, each note hanging and gliding; a butterfly free to fly. One further verse sees Michael exclaim\, joyfully and thankfully\, “I am free”\, a sentiment anyone constrained by their past can share. \n \nSupport is from Abi. 16 year-old. Leamington based\, singer songwriter and busker\, specialising in Indie Folk Music\, doing covers as well as original music.
URL:https://banburyfolkclub.co.uk/event/michael-cassidy-2/
END:VEVENT
END:VCALENDAR