BEGIN:VCALENDAR
VERSION:2.0
PRODID:-//Banbury Folk Club - ECPv5.14.0.4//NONSGML v1.0//EN
CALSCALE:GREGORIAN
METHOD:PUBLISH
X-WR-CALNAME:Banbury Folk Club
X-ORIGINAL-URL:https://banburyfolkclub.co.uk
X-WR-CALDESC:Events for Banbury Folk Club
BEGIN:VTIMEZONE
TZID:Europe/London
BEGIN:DAYLIGHT
TZOFFSETFROM:+0000
TZOFFSETTO:+0100
TZNAME:BST
DTSTART:20220327T010000
END:DAYLIGHT
BEGIN:STANDARD
TZOFFSETFROM:+0100
TZOFFSETTO:+0000
TZNAME:GMT
DTSTART:20221030T010000
END:STANDARD
END:VTIMEZONE
BEGIN:VEVENT
DTSTART;TZID=Europe/London:20220511T200000
DTEND;TZID=Europe/London:20220511T223000
DTSTAMP:20260422T145815
CREATED:20211014T093135Z
LAST-MODIFIED:20220425T103419Z
UID:853-1652299200-1652308200@banburyfolkclub.co.uk
SUMMARY:Martin Oram. Support from Paul Gibson
DESCRIPTION:You may have seen singer\, songwriter\, multi-instrumentalist Martyn Oram\, several times over the past 10 years at the Banbury Folk Festival\, with Keith Donnelly\, or The London Philharmonic Skiffle Orchestra. Tonight he is appearing solo at the Folk Club\, postponed from February\, due to illness.\n\nStory songs\, love songs and some humourous songs\, accompanied by guitar\, violin\, bouzouki and ukulele.\n“All songs show a mastery of words that create vivid pictures and believable characters … put together with skill and passion … Martyn’s fiddle playing is excellent” \n“top class performer\, great musician\, fine singer and songwriter” \n“Typically thoughtful\, warmly sung with exemplary diction and skilful fiddling”\n\n\n\nSupport is from Paul Gibson\, making a welcome return to the club.
URL:https://banburyfolkclub.co.uk/event/martin-oram/
END:VEVENT
END:VCALENDAR