BEGIN:VCALENDAR
VERSION:2.0
PRODID:-//Banbury Folk Club - ECPv5.14.0.4//NONSGML v1.0//EN
CALSCALE:GREGORIAN
METHOD:PUBLISH
X-WR-CALNAME:Banbury Folk Club
X-ORIGINAL-URL:https://banburyfolkclub.co.uk
X-WR-CALDESC:Events for Banbury Folk Club
BEGIN:VTIMEZONE
TZID:Europe/London
BEGIN:DAYLIGHT
TZOFFSETFROM:+0000
TZOFFSETTO:+0100
TZNAME:BST
DTSTART:20220327T010000
END:DAYLIGHT
BEGIN:STANDARD
TZOFFSETFROM:+0100
TZOFFSETTO:+0000
TZNAME:GMT
DTSTART:20221030T010000
END:STANDARD
END:VTIMEZONE
BEGIN:VEVENT
DTSTART;TZID=Europe/London:20220119T200000
DTEND;TZID=Europe/London:20220119T223000
DTSTAMP:20260424T090858
CREATED:20211203T121518Z
LAST-MODIFIED:20220107T121203Z
UID:877-1642622400-1642631400@banburyfolkclub.co.uk
SUMMARY:Lauren South & Guests
DESCRIPTION:Banbury Folk Club. 19th January\, 8pm Coach and Horses PH\, Butchers Row. OX16 5JH. Lauren South has previously performed at the club as half of ‘As The Heron’. Tonight she is doing a solo set but\, may bring a few of her friends along. A singer and multi-instrumentalist whose self-penned and traditional songs have gained her a reputation as one of Warwickshire’s up and coming folk musicians. A mixture of tenor guitar\, fiddle\, piano and shruti box provides backing for honeyed vocals. \nInternationally renowned singer/songwriter\, Reg Meuross says: ‘I love Lauren’s voice! It has a distinctive and unique beauty that allows her to turn every word she sings into a kind of magic formula.’
URL:https://banburyfolkclub.co.uk/event/lauren-south-guests/
END:VEVENT
END:VCALENDAR