BEGIN:VCALENDAR
VERSION:2.0
PRODID:-//Banbury Folk Club - ECPv5.14.0.4//NONSGML v1.0//EN
CALSCALE:GREGORIAN
METHOD:PUBLISH
X-WR-CALNAME:Banbury Folk Club
X-ORIGINAL-URL:https://banburyfolkclub.co.uk
X-WR-CALDESC:Events for Banbury Folk Club
BEGIN:VTIMEZONE
TZID:Europe/London
BEGIN:DAYLIGHT
TZOFFSETFROM:+0000
TZOFFSETTO:+0100
TZNAME:BST
DTSTART:20230326T010000
END:DAYLIGHT
BEGIN:STANDARD
TZOFFSETFROM:+0100
TZOFFSETTO:+0000
TZNAME:GMT
DTSTART:20231029T010000
END:STANDARD
END:VTIMEZONE
BEGIN:VEVENT
DTSTART;TZID=Europe/London:20230405T200000
DTEND;TZID=Europe/London:20230405T223000
DTSTAMP:20260421T184708
CREATED:20230113T120059Z
LAST-MODIFIED:20230123T133837Z
UID:1254-1680724800-1680733800@banburyfolkclub.co.uk
SUMMARY:Drew Pountney/Cerys Curtis
DESCRIPTION:Drew has been a regular at the club\, playing with Pete Watkins Originals and The Coopers. He has done a few support slots solo and tonight he gets to perform in one of our double-headers\, with Cerys Curtis. \nCerys is a young singer songwriter based in Oxfordshire. Cerys wrote her first song at just aged 14 and has been performing live in the local pub/festival scene for over a year to great reception. Cerys is currently in her last year of GCSE’s but always makes time for writing her own music and standing on stage at every possible opportunity!
URL:https://banburyfolkclub.co.uk/event/drew-pountney-cerys-curtis/
END:VEVENT
END:VCALENDAR