BEGIN:VCALENDAR
VERSION:2.0
PRODID:-//Banbury Folk Club - ECPv5.14.0.4//NONSGML v1.0//EN
CALSCALE:GREGORIAN
METHOD:PUBLISH
X-WR-CALNAME:Banbury Folk Club
X-ORIGINAL-URL:https://banburyfolkclub.co.uk
X-WR-CALDESC:Events for Banbury Folk Club
BEGIN:VTIMEZONE
TZID:Europe/London
BEGIN:DAYLIGHT
TZOFFSETFROM:+0000
TZOFFSETTO:+0100
TZNAME:BST
DTSTART:20230326T010000
END:DAYLIGHT
BEGIN:STANDARD
TZOFFSETFROM:+0100
TZOFFSETTO:+0000
TZNAME:GMT
DTSTART:20231029T010000
END:STANDARD
END:VTIMEZONE
BEGIN:VEVENT
DTSTART;TZID=Europe/London:20230524T200000
DTEND;TZID=Europe/London:20230524T223000
DTSTAMP:20260421T184654
CREATED:20230201T104038Z
LAST-MODIFIED:20230310T203651Z
UID:1292-1684958400-1684967400@banburyfolkclub.co.uk
SUMMARY:Daria Kulesh & Katrina Davies
DESCRIPTION:Described by Mike Harding as “one of the finest voices and one of the most intriguing and interesting songwriters”\, Daria Kulesh has toured extensively\, leaving her audiences “completely spellbound”. Born in Russia but UK-based for 15 years\, she fearlessly explores her roots and family history in Ingushetia (North Caucasus) with songs that “aren’t just sung\, but lived”. \nKatrina has performed at both the club and the festival\, as a part of 15 String Trio. An amazingly accomplished violinist who splits her time between folk and classical worlds. Having spent a few happy years in the explosive Joe Broughton’s Folk Ensemble she is currently part of Daria Kulesh’s Trio\, \n 
URL:https://banburyfolkclub.co.uk/event/daria-kulesh-katrin-davies/
END:VEVENT
END:VCALENDAR